BEGIN:VCALENDAR
VERSION:2.0
PRODID:-//Tukios.com/
BEGIN:VEVENT
UID:dc7e1f16-af5f-447b-aec5-a848a6cef271@www.fitchettmannfuneralservices.com
DTSTAMP:20260423T210536Z
DTSTART:20260425T180000Z
DTEND:20260425T190000Z
SUMMARY:Funeral Service
DESCRIPTION:
URL:https://www.fitchettmannfuneralservices.com/obituaries/paul-gregory
LOCATION:New Weeping Mary Baptist Church 1104 Fentress Road  Chesapeake 
	VA 23322
GEO:36.7027588;-76.1979751
END:VEVENT
END:VCALENDAR