BEGIN:VCALENDAR
VERSION:2.0
PRODID:-//Tukios.com/
BEGIN:VEVENT
UID:596bb43d-1a97-4f9c-bfe9-5b429f32403c@www.fitchettmannfuneralservices.com
DTSTAMP:20260423T211316Z
DTSTART:20260424T200000Z
DTEND:20260424T220000Z
SUMMARY:Viewing
DESCRIPTION:
URL:https://www.fitchettmannfuneralservices.com/obituaries/paul-gregory
LOCATION:Fitchett-Mann Funeral Services 1146 Rodgers Street  Chesapeake 
	VA 23324
GEO:36.815652;-76.2747887
END:VEVENT
END:VCALENDAR